BEGIN:VCALENDAR
VERSION:2.0
PRODID:-//eventon.com NONSGML v1.0//EN
CALSCALE:GREGORIAN
METHOD:PUBLISH
BEGIN:VEVENT
UID:69e60f5216b53
DTSTAMP:20260420T113442Z
DTSTART:20240326T213000Z
DTEND:20240326T224500Z
LOCATION:
SUMMARY:Monthly Self-Love Class: WOMEN ONLY
DESCRIPTION:This class provides a safe space for women to receive positive 
 guidance on the self-love journey. Many of us have been conditioned to beli
 eve that Love means being soft\,  eternally-available and pliable. However\
 ,  at the heart of our empowered feminine journey\,  self-Love asks us to s
 how up differently. I'm Adriana\, [..]\nhttps://pillarholistic.com/events/m
 onthly-self-love-class-women-only-2/
URL:https://pillarholistic.com/events/monthly-self-love-class-women-only-2/
END:VEVENT
END:VCALENDAR