BEGIN:VCALENDAR
VERSION:2.0
PRODID:-//eventon.com NONSGML v1.0//EN
CALSCALE:GREGORIAN
METHOD:PUBLISH
BEGIN:VEVENT
UID:69e61010efead
DTSTAMP:20260420T113752Z
DTSTART:20221201T103000Z
DTEND:20221201T113000Z
LOCATION:
SUMMARY:Exclusive Launch Event for Media & Community Partners
DESCRIPTION:This is an invitation-only event for a sneak peek of our beauti
 ful space\,  a meet and greet with Dr. Jessica and Brian Caruso\,  and a pr
 eview of our boutique and apothecary organic products.\nhttps://pillarholis
 tic.com/events/exclusive-launch-event-for-media-community-partners/
URL:https://pillarholistic.com/events/exclusive-launch-event-for-media-community-partners/
END:VEVENT
END:VCALENDAR